BEGIN:VCALENDAR
VERSION:2.0
PRODID:-//wp-events-plugin.com//7.2.2.1//EN
TZID:Europe/Paris
X-WR-TIMEZONE:Europe/Paris
BEGIN:VEVENT
UID:167@villenotredamedemonts.fr
DTSTART;TZID=Europe/Paris:20250830T180000
DTEND;TZID=Europe/Paris:20250830T180000
DTSTAMP:20250303T095406Z
URL:https://villenotredamedemonts.fr/evenements/tournoi-de-fin-dete-de-la-
 boule-en-bois/
SUMMARY:Tournoi de fin d'été de la boule en bois
DESCRIPTION:\n 	Informations : labouleenbois@gmail.com\n 	Lieu : Rue de la 
 Barre\n 	Tarif : 9€ par triplette\n\n&nbsp\;
ATTACH;FMTTYPE=image/jpeg:https://villenotredamedemonts.fr/wp-content/uplo
 ads/2025/02/wooden-ball-214396_1280.jpg
CATEGORIES:Evenements
END:VEVENT
BEGIN:VTIMEZONE
TZID:Europe/Paris
X-LIC-LOCATION:Europe/Paris
BEGIN:DAYLIGHT
DTSTART:20250330T030000
TZOFFSETFROM:+0100
TZOFFSETTO:+0200
TZNAME:CEST
END:DAYLIGHT
END:VTIMEZONE
END:VCALENDAR