BEGIN:VCALENDAR
VERSION:2.0
PRODID:-//wp-events-plugin.com//7.2.2.1//EN
TZID:Europe/Paris
X-WR-TIMEZONE:Europe/Paris
BEGIN:VEVENT
UID:106@villenotredamedemonts.fr
DTSTART;TZID=Europe/Paris:20250404T100000
DTEND;TZID=Europe/Paris:20250404T100000
DTSTAMP:20240905T135535Z
URL:https://villenotredamedemonts.fr/evenements/delices-litteraires-au-jar
 din/
SUMMARY:Délices littéraires au jardin
DESCRIPTION:Découverte et convivialité autour d’un café-brioche. Les b
 ibliothécaires et les lecteurs partagent leurs ‘‘coups de coeur’’
 .\n\n 	Jardin du Vent\n 	Adulte | sans réservation\n
ATTACH;FMTTYPE=image/jpeg:https://villenotredamedemonts.fr/wp-content/uplo
 ads/2024/09/book-5040409_1280.jpg
END:VEVENT
BEGIN:VTIMEZONE
TZID:Europe/Paris
X-LIC-LOCATION:Europe/Paris
BEGIN:DAYLIGHT
DTSTART:20250330T030000
TZOFFSETFROM:+0100
TZOFFSETTO:+0200
TZNAME:CEST
END:DAYLIGHT
END:VTIMEZONE
END:VCALENDAR