BEGIN:VCALENDAR
VERSION:2.0
PRODID:-//wp-events-plugin.com//7.2.2.1//EN
TZID:Europe/Paris
X-WR-TIMEZONE:Europe/Paris
BEGIN:VEVENT
UID:146@villenotredamedemonts.fr
DTSTART;TZID=Europe/Paris:20250309T203000
DTEND;TZID=Europe/Paris:20250309T203000
DTSTAMP:20250217T144706Z
URL:https://villenotredamedemonts.fr/evenements/cinema-soiree-coup-de-coeu
 r-du-mois-de-mars/
SUMMARY:Cinéma soirée coup de cœur du mois de mars
DESCRIPTION:Nous vous proposons en soirée coup de cœur "Le quatrième mur
 "\, une adaptation bouleversante du roman de Sorj Chalandon\, prix Goncour
 t des lycéens 2013 avec Laurent Lafitte.\n\n 	Informations : cinemalesyol
 es@gmail.com\n
ATTACH;FMTTYPE=image/jpeg:https://villenotredamedemonts.fr/wp-content/uplo
 ads/2024/03/23-07-24-A7407797-NNDM-Les-Yoles-Cinema-Credit-NIMIVISION.COM-
 Nicolas-Michon-1-scaled.jpg
CATEGORIES:Culture
END:VEVENT
BEGIN:VTIMEZONE
TZID:Europe/Paris
X-LIC-LOCATION:Europe/Paris
BEGIN:STANDARD
DTSTART:20241027T020000
TZOFFSETFROM:+0200
TZOFFSETTO:+0100
TZNAME:CET
END:STANDARD
END:VTIMEZONE
END:VCALENDAR